Workbook
Name \C: [1]Reforma!#REF!
Name \C: [1]Reforma!#REF!
Name \D: [1]Reforma!#REF!
Name \D: [1]Reforma!#REF!
Name \G: [1]Reforma!#REF!
Name \I: [1]Reforma!#REF!
Name \l: #REF!
Name \l: #REF!
Name \M: [1]Reforma!#REF!
Name \P: [1]Reforma!#REF!
Name \R: [1]Reforma!#REF!
Name \s: #REF!
Name \s: #REF!
Name \t: #REF!
Name \t: #REF!
Name \Y: [1]Reforma!#REF!
Name \Y: [1]Reforma!#REF!
Name _: [1]Reforma!#REF!
Name _: [1]Reforma!#REF!
Name ______________MDO1: [2]INSUMOS!$C$8
Name ______________MDO2: [3]INSUMOS!$C$6
Name ______________R: #REF!
Name _____________MDO1: [2]INSUMOS!$C$8
Name _____________MDO2: [3]INSUMOS!$C$6
Name _____________R: #REF!
Name ____________MDO1: [2]INSUMOS!$C$8
Name ____________MDO2: [3]INSUMOS!$C$6
Name ____________R: #REF!
Name ____________R: #REF!
Name ___________MDO1: [2]INSUMOS!$C$8
Name ___________MDO2: [3]INSUMOS!$C$6
Name ___________R: #REF!
Name ___________R: #REF!
Name ___________rua1: #REF!
Name __________MDO1: [2]INSUMOS!$C$8
Name __________MDO2: [3]INSUMOS!$C$6
Name __________R: #REF!
Name __________rua1: #REF!
Name _________MDO1: [2]INSUMOS!$C$8
Name _________MDO2: [3]INSUMOS!$C$6
Name _________R: #REF!
Name _________R: #REF!
Name _________rua1: #REF!
Name ________MDO1: [2]INSUMOS!$C$8
Name ________MDO2: [3]INSUMOS!$C$6
Name ________R: #REF!
Name ________R: #REF!
Name ________rua1: #REF!
Name _______MDO1: [2]INSUMOS!$C$8
Name _______MDO2: [3]INSUMOS!$C$6
Name _______R: #REF!
Name _______R: #REF!
Name _______rua1: #REF!
Name ______MDO1: [2]INSUMOS!$C$8
Name ______MDO2: [3]INSUMOS!$C$6
Name ______R: #REF!
Name ______R: #REF!
Name ______rua1: #REF!
Name _____MDO1: [4]INSUMOS!$C$8
Name _____MDO1: [2]INSUMOS!$C$8

Sheet ORÇ
A2: OBRA: | D2: BDI: | E2: BANCOS E DATAS: | H2: ENCARGOS SOCIAIS:
A3: CONSTRUÇÃO DE ESCOLA 8 SALAS | D3: 0.1985 | E3: SINAPI - 05/2024; SBC - 06/2024; ORSE - 04/2024; IOPES - 03/2024; AGESUL - 01/2024; AGETOP CIVIL - 02/2024; CAEMA - 12/2023 | H3: Não Desonerado: embutido nos preços unitário dos insumos de mão de obra, de acordo com as bases. | K3: 1089239.6
A4: PLANILHA ORÇAMENTÁRIA SINTÉTICA | K4: 1089239.6
A5: ITEM | B5: CÓDIGO | C5: DESCRIÇÃO | D5: BANCO | E5: UNID | F5: QUANT. | G5: VALOR UNIT. (R$) | H5: VALOR UNIT. C/ BDI (R$) | I5: TOTAL
A6: TOTAL: | I6: 1089239.6
A7: 1 | C7: SERVIÇOS PRELIMINARES | I7: 31770.63 | M7: 40240.65 | Q7: =I7/M7 -> 0.78951583
A8: 1.1 | B8: 103689 | C8: FORNECIMENTO E INSTALAÇÃO DE PLACA DE OBRA COM CHAPA GALVANIZADA E ESTRUTURA DE MADEIRA. AF_03/2022_PS | D8: SINAPI | E8: m² | F8: 8 | G8: 249.65 | H8: 299.2 | I8: 2393.6 | K8: 316.03 | L8: 378.76 | M8: 3030.08 | O8: =G8/K8 -> 0.78995665 | P8: =H8/L8 -> 0.78994614 | Q8: =I8/M8 -> 0.78994614
A9: 1.2 | B9: 93584 | C9: EXECUÇÃO DE DEPÓSITO EM CANTEIRO DE OBRA EM CHAPA DE MADEIRA COMPENSADA, NÃO INCLUSO MOBILIÁRIO. AF_04/2016 | D9: SINAPI | E9: m² | F9: 15 | G9: 583.95 | H9: 699.86 | I9: 10497.9 | K9: 740.48 | L9: 887.46 | M9: 13311.9 | O9: =G9/K9 -> 0.78861009 | P9: =H9/L9 -> 0.78861019 | Q9: =I9/M9 -> 0.78861019
A10: 1.3 | B10: 99059 | C10: LOCAÇÃO CONVENCIONAL DE OBRA, UTILIZANDO GABARITO DE TÁBUAS CORRIDAS PONTALETADAS A CADA 2,00M - 2 UTILIZAÇÕES. AF_03/2024 | D10: SINAPI | E10: M | F10: 338.7 | G10: 46.51 | H10: 55.74 | I10: 18879.13 | K10: 58.88 | L10: 70.56 | M10: 23898.67 | O10: =G10/K10 -> 0.78991168 | P10: =H10/L10 -> 0.78996599 | Q10: =I10/M10 -> 0.78996572
A11: 2 | C11: MOVIMENTO DE TERRA | I11: 25435.38 | M11: 32239 | Q11: =I11/M11 -> 0.78896306
A12: 2.1 | B12: 93358 | C12: ESCAVAÇÃO MANUAL DE VALA COM PROFUNDIDADE MENOR OU IGUAL A 1,30 M. AF_02/2021 | D12: SINAPI | E12: m³ | F12: 56.9 | G12: 60.21 | H12: 72.16 | I12: 4105.9 | K12: 76.23 | L12: 91.36 | M12: 5198.38 | O12: =G12/K12 -> 0.78984652 | P12: =H12/L12 -> 0.78984238 | Q12: =I12/M12 -> 0.78984222
A13: 2.2 | B13: 96995 | C13: REATERRO MANUAL APILOADO COM SOQUETE. AF_10/2017 | D13: SINAPI | E13: m³ | F13: 8.43 | G13: 36.5 | H13: 43.74 | I13: 368.72 | K13: 46.22 | L13: 55.39 | M13: 466.94 | O13: =G13/K13 -> 0.78970143 | P13: =H13/L13 -> 0.78967323 | Q13: =I13/M13 -> 0.78965178
A14: 2.3 | B14: PRÓPRIO - EMB. RACHAO | C14: [Adaptação SINAPI 101166] ALVENARIA DE EMBASAMENTO COM PEDRA RACHÃO E ARGAMASSA DE ASSENTAMENTO COM PREPARO EM BETONEIRA. AF_05/2020 | D14: Próprio | E14: M³ | F14: 51.18 | G14: 341.72 | H14: 409.55 | I14: 20960.76 | K14: 433.23 | L14: 519.22 | M14: 26573.68 | O14: =G14/K14 -> 0.78877271 | P14: =H14/L14 -> 0.78877932 | Q14: =I14/M14 -> 0.78877897
A15: 3 | C15: ESTRUTURA - FUNDAÇÕES E EMBASAMENTO | I15: 125676.4 | M15: 159133.28 | Q15: =I15/M15 -> 0.78975561
A16: 3.1 | C16: CONCRETO ARMADO PARA FUNDAÇÕES - SAPATAS | I16: 53542.47 | M16: 67790.6 | Q16: =I16/M16 -> 0.78982145
A17: 3.1.1 | B17: 96616 | C17: LASTRO DE CONCRETO MAGRO, APLICADO EM BLOCOS DE COROAMENTO OU SAPATAS. AF_01/2024 | D17: SINAPI | E17: m³ | F17: 1.15 | G17: 572.33 | H17: 685.93 | I17: 788.81 | K17: 725.62 | L17: 869.65 | M17: 1000.1 | O17: =G17/K17 -> 0.78874618 | P17: =H17/L17 -> 0.7887426 | Q17: =I17/M17 -> 0.78873113
A18: 3.1.2 | B18: 95957 | C18: (COMPOSIÇÃO REPRESENTATIVA) EXECUÇÃO DE ESTRUTURAS DE CONCRETO ARMADO, PARA EDIFICAÇÃO INSTITUCIONAL TÉRREA, FCK = 25 MPA. AF_01/2017 | D18: SINAPI | E18: m³ | F18: 18.43 | G18: 2388.31 | H18: 2862.38 | I18: 52753.66 | K18: 3023.79 | L18: 3624.01 | M18: 66790.5 | O18: =G18/K18 -> 0.7898399 | P18: =H18/L18 -> 0.78983778 | Q18: =I18/M18 -> 0.78983778
A19: 3.2 | C19: CONCRETO ARMADO PARA FUNDAÇÕES - VIGAS BALDRAMES | I19: 59394.38 | M19: 75198.21 | Q19: =I19/M19 -> 0.78983768
A20: 3.2.1 | B20: 95957 | C20: (COMPOSIÇÃO REPRESENTATIVA) EXECUÇÃO DE ESTRUTURAS DE CONCRETO ARMADO, PARA EDIFICAÇÃO INSTITUCIONAL TÉRREA, FCK = 25 MPA. AF_01/2017 | D20: SINAPI | E20: m³ | F20: 20.75 | G20: 2388.31 | H20: 2862.38 | I20: 59394.38 | K20: 3023.79 | L20: 3624.01 | M20: 75198.21 | O20: =G20/K20 -> 0.7898399 | P20: =H20/L20 -> 0.78983778 | Q20: =I20/M20 -> 0.78983768
A21: 3.3 | C21: ALVENARIA DE ADEQUAÇÃO ESTRUTURAL | I21: 12739.55 | M21: 16144.47 | Q21: =I21/M21 -> 0.78909682
A22: 3.3.1 | B22: 801000104 | C22: ALVENARIA DE ELEVACAO COM TIJOLO CERAMICO FURADO (9X19X19)CM, 1 VEZ (ESPESSURA DE 19CM), ASSENTADA COM ARGAMASSA MISTA DE CIMENTO, CAL HIDRATADA E AREIA SEM PENEIRAR, NO TRACO 1:2:8 | D22: AGESUL | E22: m² | F22: 125.55 | G22: 84.67 | H22: 101.47 | I22: 12739.55 | K22: 107.3 | L22: 128.59 | M22: 16144.47 | O22: =G22/K22 -> 0.78909599 | P22: =H22/L22 -> 0.78909713 | Q22: =I22/M22 -> 0.78909682
A23: 4 | C23: SUPERESTRUTURA | I23: 156628.15 | M23: 197681.24 | Q23: =I23/M23 -> 0.79232683
A24: 4.1 | C24: CONCRETO ARMADO PARA SUPERESTRUTURAS - PILARES | I24: 26620.13 | M24: 33703.29 | Q24: =I24/M24 -> 0.78983773
A25: 4.1.1 | B25: 95957 | C25: (COMPOSIÇÃO REPRESENTATIVA) EXECUÇÃO DE ESTRUTURAS DE CONCRETO ARMADO, PARA EDIFICAÇÃO INSTITUCIONAL TÉRREA, FCK = 25 MPA. AF_01/2017 | D25: SINAPI | E25: m³ | F25: 9.3 | G25: 2388.31 | H25: 2862.38 | I25: 26620.13 | K25: 3023.79 | L25: 3624.01 | M25: 33703.29 | O25: =G25/K25 -> 0.7898399 | P25: =H25/L25 -> 0.78983778 | Q25: =I25/M25 -> 0.78983773
A26: 4.2 | C26: CONCRETO ARMADO PARA SUPERESTRUTURAS - VIGAS DE RESPALDO | I26: 59394.38 | M26: 75198.21 | Q26: =I26/M26 -> 0.78983768
A27: 4.2.1 | B27: 95957 | C27: (COMPOSIÇÃO REPRESENTATIVA) EXECUÇÃO DE ESTRUTURAS DE CONCRETO ARMADO, PARA EDIFICAÇÃO INSTITUCIONAL TÉRREA, FCK = 25 MPA. AF_01/2017 | D27: SINAPI | E27: m³ | F27: 20.75 | G27: 2388.31 | H27: 2862.38 | I27: 59394.38 | K27: 3023.79 | L27: 3624.01 | M27: 75198.21 | O27: =G27/K27 -> 0.7898399 | P27: =H27/L27 -> 0.78983778 | Q27: =I27/M27 -> 0.78983768
A28: 4.3 | C28: CONCRETO ARMADO PARA SUPERESTRUTURAS - VERGAS | I28: 5864.3 | M28: 7441.24 | Q28: =I28/M28 -> 0.78808102
A29: 4.3.1 | B29: 93182 | C29: VERGA PRÉ-MOLDADA PARA JANELAS COM ATÉ 1,5 M DE VÃO. AF_03/2016 | D29: SINAPI | E29: M | F29: 43.9 | G29: 34.81 | H29: 41.71 | I29: 1831.06 | K29: 44.13 | L29: 52.88 | M29: 2321.43 | O29: =G29/K29 -> 0.7888058 | P29: =H29/L29 -> 0.78876702 | Q29: =I29/M29 -> 0.78876382
A30: 4.3.2 | B30: 93184 | C30: VERGA PRÉ-MOLDADA COM ATÉ 1,5 M DE VÃO, ESPESSURA DE *20* CM. AF_03/2024 | D30: SINAPI | E30: M | F30: 84.36 | G30: 20.2 | H30: 24.2 | I30: 2041.51 | K30: 25.64 | L30: 30.72 | M30: 2591.54 | O30: =G30/K30 -> 0.78783151 | P30: =H30/L30 -> 0.78776042 | Q30: =I30/M30 -> 0.7877594
A31: 4.3.3 | B31: 93194 | C31: CONTRAVERGA PRÉ-MOLDADA, ESPESSURA DE *20* CM. AF_03/2024 | D31: SINAPI | E31: M | F31: 84.36 | G31: 19.7 | H31: 23.61 | I31: 1991.73 | K31: 25.01 | L31: 29.97 | M31: 2528.27 | O31: =G31/K31 -> 0.78768493 | P31: =H31/L31 -> 0.78778779 | Q31: =I31/M31 -> 0.78778374
A32: 4.4 | C32: LAJE PRÉ-MOLDADA | I32: 64749.34 | M32: 81338.5 | Q32: =I32/M32 -> 0.79604787
A33: 4.4.1 | B33: 101964 | C33: LAJE PRÉ-MOLDADA UNIDIRECIONAL, BIAPOIADA, PARA FORRO, ENCHIMENTO EM CERÂMICA, VIGOTA CONVENCIONAL, ALTURA TOTAL DA LAJE (ENCHIMENTO+CAPA) = (8+3). AF_11/2020_PA | D33: SINAPI | E33: m² | F33: 419.66 | G33: 128.74 | H33: 154.29 | I33: 64749.34 | K33: 161.72 | L33: 193.82 | M33: 81338.5 | O33: =G33/K33 -> 0.79606728 | P33: =H33/L33 -> 0.79604788 | Q33: =I33/M33 -> 0.79604787
A34: 5 | C34: PAREDES E PAINEIS | I34: 91359.01 | M34: 115657.98 | Q34: =I34/M34 -> 0.78990667
A35: 5.1 | C35: ELEMENTOS VAZADOS | I35: 7029.48 | M35: 8897.77 | Q35: =I35/M35 -> 0.79002716
A36: 5.1.1 | B36: 50112 | C36: Cobogó de concreto 40 x 40 x 10 cm, tipo reto, assentados com argamassa de cimento e areia no traço 1 | D36: IOPES | E36: m² | F36: 43.97 | G36: 133.4 | H36: 159.87 | I36: 7029.48 | K36: 168.85 | L36: 202.36 | M36: 8897.77 | O36: =G36/K36 -> 0.79005034 | P36: =H36/L36 -> 0.79002767 | Q36: =I36/M36 -> 0.79002716
A37: 5.2 | C37: ALVENARIA DE VEDAÇÃO | I37: 84329.53 | M37: 106760.21 | Q37: =I37/M37 -> 0.78989663
A38: 5.2.1 | B38: 87504 | C38: ALVENARIA DE VEDAÇÃO DE BLOCOS CERÂMICOS FURADOS NA HORIZONTAL DE 9X19X19CM (ESPESSURA 9CM) DE PAREDES COM ÁREA LÍQUIDA MAIOR OU IGUAL A 6M² SEM VÃOS E ARGAMASSA DE ASSENTAMENTO COM PREPARO MANUAL. AF_06/2014 | D38: SINAPI | E38: m² | F38: 1225.72 | G38: 57.41 | H38: 68.8 | I38: 84329.53 | K38: 72.68 | L38: 87.1 | M38: 106760.21 | O38: =G38/K38 -> 0.78990094 | P38: =H38/L38 -> 0.78989667 | Q38: =I38/M38 -> 0.78989663
A39: 6 | C39: ESQUADRIAS | I39: 75133.7 | M39: 95109.96 | Q39: =I39/M39 -> 0.78996669
A40: 6.1 | C40: PORTAS DE MADEIRA | I40: 27659.62 | M40: 35017.14 | Q40: =I40/M40 -> 0.78988804
A41: 6.1.1 | B41: 90844 | C41: KIT DE PORTA DE MADEIRA PARA PINTURA, SEMI-OCA (LEVE OU MÉDIA), PADRÃO MÉDIO, 90X210CM, ESPESSURA DE 3,5CM, ITENS INCLUSOS: DOBRADIÇAS, MONTAGEM E INSTALAÇÃO DO BATENTE, FECHADURA COM EXECUÇÃO DO FURO - FORNECIMENTO E INSTALAÇÃO. AF_12/2019 | D41: SINAPI | E41: UN | F41: 14 | G41: 850.55 | H41: 1019.38 | I41: 14271.32 | K41: 1076.8 | L41: 1290.54 | M41: 18067.56 | O41: =G41/K41 -> 0.7898867 | P41: =H41/L41 -> 0.7898864 | Q41: =I41/M41 -> 0.7898864
...

Sheet CPU
C1: Obra | E1: Bancos | G1: B.D.I. | I1: Encargos Sociais
C2: CONSTRUÇÃO DE ESCOLA 8 SALAS | E2: =[51]ORÇ!E14 -> SINAPI - 05/2024; SBC - 06/2024; ORSE - 04/2024; IOPES - 03/2024; AGESUL - 01/2024; AGETOP CIVIL - 02/2024; CAEMA - 12/2023 | G2: 19,85% | I2: Não Desonerado: embutido nos preços unitário dos insumos de mão de obra, de acordo com as bases.
A3: Planilha Orçamentária Analítica
A4: 1 | D4: SERVIÇOS PRELIMINARES | J4: 31770.63
A5: 1.1 | B5: Código | C5: Banco | D5: Descrição | E5: Tipo | G5: Und | H5: Quant. | I5: Valor Unit | J5: Total
A6: Composição | B6: 103689 | C6: SINAPI | D6: FORNECIMENTO E INSTALAÇÃO DE PLACA DE OBRA COM CHAPA GALVANIZADA E ESTRUTURA DE MADEIRA. AF_03/2022_PS | E6: PAVI - PAVIMENTAÇÃO | G6: m² | H6: 1 | I6: 249.65 | J6: 249.65
A7: Composição Auxiliar | B7: 102234 | C7: SINAPI | D7: PINTURA IMUNIZANTE PARA MADEIRA, 2 DEMÃOS. AF_01/2021 | E7: PINT - PINTURAS | G7: m² | H7: 0.5 | I7: 18.59 | J7: 9.29
A8: Composição Auxiliar | B8: 88262 | C8: SINAPI | D8: CARPINTEIRO DE FORMAS COM ENCARGOS COMPLEMENTARES | E8: SEDI - SERVIÇOS DIVERSOS | G8: H | H8: 0.3729 | I8: 19.05 | J8: 7.1
A9: Composição Auxiliar | B9: 88316 | C9: SINAPI | D9: SERVENTE COM ENCARGOS COMPLEMENTARES | E9: SEDI - SERVIÇOS DIVERSOS | G9: H | H9: 1.1186 | I9: 15.22 | J9: 17.02
A10: Insumo | B10: 00004509 | C10: SINAPI | D10: SARRAFO *2,5 X 10* CM EM PINUS, MISTA OU EQUIVALENTE DA REGIAO - BRUTA | E10: Material | G10: M | H10: 3.2083 | I10: 5.67 | J10: 18.19
A11: Insumo | B11: 00004813 | C11: SINAPI | D11: PLACA DE OBRA (PARA CONSTRUCAO CIVIL) EM CHAPA GALVANIZADA *N. 22*, ADESIVADA, DE *2,4 X 1,2* M (SEM POSTES PARA FIXACAO) | E11: Material | G11: m² | H11: 1 | I11: 197.5 | J11: 197.5
A12: Insumo | B12: 00005065 | C12: SINAPI | D12: PREGO DE ACO POLIDO COM CABECA 10 X 10 (7/8 X 17) | E12: Material | G12: KG | H12: 0.0113 | I12: 30.57 | J12: 0.34
A13: Insumo | B13: 00005069 | C13: SINAPI | D13: PREGO DE ACO POLIDO COM CABECA 17 X 27 (2 1/2 X 11) | E13: Material | G13: KG | H13: 0.0132 | I13: 16.38 | J13: 0.21
E14: MO sem LS => | F14: 21.61 | G14: LS => | H14: 0 | I14: MO com LS => | J14: 21.61
E15: Valor do BDI => | F15: 49.55 | H15: Valor com BDI => | J15: 299.2
G16: Quant. => | H16: 8 | I16: Preço Total => | J16: 2393.6
A18: 1.2 | B18: Código | C18: Banco | D18: Descrição | E18: Tipo | G18: Und | H18: Quant. | I18: Valor Unit | J18: Total
A19: Composição | B19: 93584 | C19: SINAPI | D19: EXECUÇÃO DE DEPÓSITO EM CANTEIRO DE OBRA EM CHAPA DE MADEIRA COMPENSADA, NÃO INCLUSO MOBILIÁRIO. AF_04/2016 | E19: CANT - CANTEIRO DE OBRAS | G19: m² | H19: 1 | I19: 583.95 | J19: 583.95
A20: Composição Auxiliar | B20: 101165 | C20: SINAPI | D20: ALVENARIA DE EMBASAMENTO COM BLOCO ESTRUTURAL DE CONCRETO, DE 14X19X29CM E ARGAMASSA DE ASSENTAMENTO COM PREPARO EM BETONEIRA. AF_05/2020 | E20: FUES - FUNDAÇÕES E ESTRUTURAS | G20: m³ | H20: 0.0417 | I20: 705.9 | J20: 29.43
A21: Composição Auxiliar | B21: 88489 | C21: SINAPI | D21: PINTURA LÁTEX ACRÍLICA PREMIUM, APLICAÇÃO MANUAL EM PAREDES, DUAS DEMÃOS. AF_04/2023 | E21: PINT - PINTURAS | G21: m² | H21: 5.0649 | I21: 9.01 | J21: 45.63
A22: Composição Auxiliar | B22: 91170 | C22: SINAPI | D22: FIXAÇÃO DE TUBOS HORIZONTAIS DE PVC ÁGUA, PVC ESGOTO, PVC ÁGUA PLUVIAL, CPVC, PPR, COBRE OU AÇO, DIÂMETROS MENORES OU IGUAIS A 40 MM, COM ABRAÇADEIRA METÁLICA RÍGIDA TIPO U PERFIL 1 1/4", FIXADA EM PERFILADO EM LAJE. AF_09/2023_PS | E22: INHI - INSTALAÇÕES HIDROS SANITÁRIAS | G22: M | H22: 0.1325 | I22: 7.51 | J22: 0.99
A23: Composição Auxiliar | B23: 91173 | C23: SINAPI | D23: FIXAÇÃO DE TUBOS VERTICAIS DE PVC ÁGUA, PVC ESGOTO, PVC ÁGUA PLUVIAL, CPVC, PPR, COBRE OU AÇO, DIÂMETROS MENORES OU IGUAIS A 40 MM, COM ABRAÇADEIRA METÁLICA RÍGIDA TIPO U PERFIL 1 1/4", FIXADA EM PERFILADO EM PAREDE. AF_09/2023_PS | E23: INHI - INSTALAÇÕES HIDROS SANITÁRIAS | G23: M | H23: 0.1722 | I23: 2.8 | J23: 0.48
A24: Composição Auxiliar | B24: 91341 | C24: SINAPI | D24: PORTA EM ALUMÍNIO DE ABRIR TIPO VENEZIANA COM GUARNIÇÃO, FIXAÇÃO COM PARAFUSOS - FORNECIMENTO E INSTALAÇÃO. AF_12/2019 | E24: ESQV - ESQUADRIAS/FERRAGENS/VIDROS | G24: m² | H24: 0.153 | I24: 536.55 | J24: 82.09
A25: Composição Auxiliar | B25: 91852 | C25: SINAPI | D25: ELETRODUTO FLEXÍVEL CORRUGADO, PVC, DN 20 MM (1/2"), PARA CIRCUITOS TERMINAIS, INSTALADO EM PAREDE - FORNECIMENTO E INSTALAÇÃO. AF_03/2023 | E25: INEL - INSTALAÇÃO ELÉTRICA/ELETRIFICAÇÃO E ILUMINAÇÃO EXTERNA | G25: M | H25: 0.0662 | I25: 6.41 | J25: 0.42
A26: Composição Auxiliar | B26: 91862 | C26: SINAPI | D26: ELETRODUTO RÍGIDO ROSCÁVEL, PVC, DN 20 MM (1/2"), PARA CIRCUITOS TERMINAIS, INSTALADO EM FORRO - FORNECIMENTO E INSTALAÇÃO. AF_03/2023 | E26: INEL - INSTALAÇÃO ELÉTRICA/ELETRIFICAÇÃO E ILUMINAÇÃO EXTERNA | G26: M | H26: 0.1325 | I26: 7.03 | J26: 0.93
A27: Composição Auxiliar | B27: 91870 | C27: SINAPI | D27: ELETRODUTO RÍGIDO ROSCÁVEL, PVC, DN 20 MM (1/2"), PARA CIRCUITOS TERMINAIS, INSTALADO EM PAREDE - FORNECIMENTO E INSTALAÇÃO. AF_03/2023 | E27: INEL - INSTALAÇÃO ELÉTRICA/ELETRIFICAÇÃO E ILUMINAÇÃO EXTERNA | G27: M | H27: 0.1722 | I27: 9.11 | J27: 1.56
A28: Composição Auxiliar | B28: 91924 | C28: SINAPI | D28: CABO DE COBRE FLEXÍVEL ISOLADO, 1,5 MM², ANTI-CHAMA 450/750 V, PARA CIRCUITOS TERMINAIS - FORNECIMENTO E INSTALAÇÃO. AF_03/2023 | E28: INEL - INSTALAÇÃO ELÉTRICA/ELETRIFICAÇÃO E ILUMINAÇÃO EXTERNA | G28: M | H28: 0.6755 | I28: 2.24 | J28: 1.51
A29: Composição Auxiliar | B29: 92023 | C29: SINAPI | D29: INTERRUPTOR SIMPLES (1 MÓDULO) COM 1 TOMADA DE EMBUTIR 2P+T 10 A, INCLUINDO SUPORTE E PLACA - FORNECIMENTO E INSTALAÇÃO. AF_03/2023 | E29: INEL - INSTALAÇÃO ELÉTRICA/ELETRIFICAÇÃO E ILUMINAÇÃO EXTERNA | G29: UN | H29: 0.0662 | I29: 35.13 | J29: 2.32
A30: Composição Auxiliar | B30: 92543 | C30: SINAPI | D30: TRAMA DE MADEIRA COMPOSTA POR TERÇAS PARA TELHADOS DE ATÉ 2 ÁGUAS PARA TELHA ONDULADA DE FIBROCIMENTO, METÁLICA, PLÁSTICA OU TERMOACÚSTICA, INCLUSO TRANSPORTE VERTICAL. AF_07/2019 | E30: COBE - COBERTURA | G30: m² | H30: 1.7192 | I30: 15.03 | J30: 25.83
... A43: Insumo | B43: 00011455 | C43: SINAPI | D43: FERROLHO COM FECHO / TRINCO REDONDO, EM ACO GALVANIZADO / ZINCADO, DE SOBREPOR, COM COMPRIMENTO DE 8" E ESPESSURA MINIMA DA CHAPA DE 1,50 MM | E43: Material | G43: UN | H43: 0.0662 | I43: 13.86 | J43: 0.91
E44: MO sem LS => | F44: 126.04 | G44: LS => | H44: 0 | I44: MO com LS => | J44: 126.04
E45: Valor do BDI => | F45: 115.91 | H45: Valor com BDI => | J45: 699.86
G46: Quant. => | H46: 15 | I46: Preço Total => | J46: 10497.9
A48: 1.3 | B48: Código | C48: Banco | D48: Descrição | E48: Tipo | G48: Und | H48: Quant. | I48: Valor Unit | J48: Total
A49: Composição | B49: 99059 | C49: SINAPI | D49: LOCAÇÃO CONVENCIONAL DE OBRA, UTILIZANDO GABARITO DE TÁBUAS CORRIDAS PONTALETADAS A CADA 2,00M - 2 UTILIZAÇÕES. AF_03/2024 | E49: SERT - SERVIÇOS TÉCNICOS | G49: M | H49: 1 | I49: 46.51 | J49: 46.51
A50: Composição Auxiliar | B50: 88239 | C50: SINAPI | D50: AJUDANTE DE CARPINTEIRO COM ENCARGOS COMPLEMENTARES | E50: SEDI - SERVIÇOS DIVERSOS | G50: H | H50: 0.7247 | I50: 15.75 | J50: 11.41
A51: Composição Auxiliar | B51: 88262 | C51: SINAPI | D51: CARPINTEIRO DE FORMAS COM ENCARGOS COMPLEMENTARES | E51: SEDI - SERVIÇOS DIVERSOS | G51: H | H51: 0.7247 | I51: 19.05 | J51: 13.8
A52: Composição Auxiliar | B52: 91692 | C52: SINAPI | D52: SERRA CIRCULAR DE BANCADA COM MOTOR ELÉTRICO POTÊNCIA DE 5HP, COM COIFA PARA DISCO 10" - CHP DIURNO. AF_08/2015 | E52: CHOR - CUSTOS HORÁRIOS DE MÁQUINAS E EQUIPAMENTOS | G52: CHP | H52: 0.007 | I52: 19.06 | J52: 0.13
A53: Composição Auxiliar | B53: 91693 | C53: SINAPI | D53: SERRA CIRCULAR DE BANCADA COM MOTOR ELÉTRICO POTÊNCIA DE 5HP, COM COIFA PARA DISCO 10" - CHI DIURNO. AF_08/2015 | E53: CHOR - CUSTOS HORÁRIOS DE MÁQUINAS E EQUIPAMENTOS | G53: CHI | H53: 0.028 | I53: 18.23 | J53: 0.51
A54: Composição Auxiliar | B54: 94974 | C54: SINAPI | D54: CONCRETO MAGRO PARA LASTRO, TRAÇO 1:4,5:4,5 (EM MASSA SECA DE CIMENTO/ AREIA MÉDIA/ BRITA 1) - PREPARO MANUAL. AF_05/2021 | E54: FUES - FUNDAÇÕES E ESTRUTURAS | G54: m³ | H54: 0.004 | I54: 341.58 | J54: 1.36
...

Sheet CR
A1: OBRA: | E1: BDI: | F1: BANCOS E DATAS: | I1: ENCARGOS SOCIAIS:
A2: CONSTRUÇÃO DE ESCOLA 8 SALAS | E2: 0.1985 | F2: SINAPI - 05/2024; SBC - 06/2024; ORSE - 04/2024; IOPES - 03/2024; AGESUL - 01/2024; AGETOP CIVIL - 02/2024; CAEMA - 12/2023 | I2: Não Desonerado: embutido nos preços unitário dos insumos de mão de obra, de acordo com as bases.
A4: CRONOGRAMA FÍSICO-FINANCEIRO
A5: OBRA: CONSTRUÇÃO DE ESCOLA DE 8 SALAS
A6: ITEM | B6: DESCRIÇÃO | C6: PERCENT. OBRA | D6: % / R$ | E6: 1 MÊS | F6: 2 MESES | G6: 3 MESES | H6: 4 MESES | I6: 5 MESES | J6: 6 MESES | K6: TOTAL
A7: 1 | B7: SERVIÇOS PRELIMINARES | C7: =K7/$K$40 -> 0.029167714 | D7: % | E7: =C7 -> 0.029167714 | K7: =[51]ORÇ!I18 -> 31770.63
D8: R$ | E8: =K7 -> 31770.63
A9: 2 | B9: MOVIMENTO DE TERRA | C9: =K9/$K$40 -> 0.023351501 | D9: % | E9: =C9 -> 0.023351501 | K9: =[51]ORÇ!I22 -> 25435.38
D10: R$ | E10: =K9 -> 25435.38
A11: 3 | B11: ESTRUTURA - FUNDAÇÕES E EMBASAMENTO | C11: =K11/$K$40 -> 0.11537994 | D11: % | E11: =C11/2 -> 0.057689969 | F11: =E11 -> 0.057689969 | K11: =[51]ORÇ!I26 -> 125676.4
D12: R$ | E12: =K11/2 -> 62838.2 | F12: =E12 -> 62838.2
A13: 4 | B13: SUPERESTRUTURA | C13: =K13/$K$40 -> 0.14379586 | D13: % | F13: =C13/2 -> 0.071897931 | G13: =F13 -> 0.071897931 | K13: =[51]ORÇ!I34 -> 156628.15
D14: R$ | F14: =K13/2 -> 78314.075 | G14: =F14 -> 78314.075
A15: 5 | B15: PAREDES E PAINEIS | C15: =K15/$K$40 -> 0.083874116 | D15: % | G15: =C15/2 -> 0.041937058 | H15: =G15 -> 0.041937058 | K15: =[51]ORÇ!I45 -> 91359.01
D16: R$ | G16: =K15/2 -> 45679.505 | H16: =G16 -> 45679.505
A17: 6 | B17: ESQUADRIAS | C17: =K17/$K$40 -> 0.068978119 | D17: % | J17: =C17 -> 0.068978119 | K17: =[51]ORÇ!I50 -> 75133.7
D18: R$ | J18: =K17 -> 75133.7
A19: 7 | B19: COBERTURA | C19: =K19/$K$40 -> 0.067176045 | D19: % | I19: =C19 -> 0.067176045 | K19: =[51]ORÇ!I64 -> 73170.81
D20: R$ | I20: =K19 -> 73170.81
A21: 8 | B21: IMPERMEABILIZAÇÃO | C21: =K21/$K$40 -> 0.023026292 | D21: % | E21: =E22/K40 -> 0.010651963 | F21: =F22/K40 -> 0.01237433 | K21: =[51]ORÇ!I69 -> 25081.15
D22: R$ | E22: =K21*46.26% -> 11602.54 | F22: =K21-E22 -> 13478.61
A23: 9 | B23: REVESTIMENTO DE PAREDES | C23: =K23/$K$40 -> 0.13734048 | D23: % | H23: =C23/2 -> 0.068670239 | I23: =H23 -> 0.068670239 | K23: =[51]ORÇ!I72 -> 149596.69
D24: R$ | H24: =K23/2 -> 74798.345 | I24: =H24 -> 74798.345
A25: 10 | B25: PAVIMENTAÇÃO E VEGETAÇÃO | C25: =K25/$K$40 -> 0.12706301 | D25: % | G25: =C25/2 -> 0.063531503 | H25: =G25 -> 0.063531503 | K25: =[51]ORÇ!I80 -> 138402.06
D26: R$ | G26: =K25/2 -> 69201.03 | H26: =G26 -> 69201.03
A27: 11 | B27: PINTURA | C27: =K27/$K$40 -> 0.067366462 | D27: % | J27: =C27 -> 0.067366462 | K27: =[51]ORÇ!I87 -> 73378.22
D28: R$ | J28: =K27 -> 73378.22
A29: 12 | B29: INSTALAÇÕES ELÉTRICAS | C29: =K29/$K$40 -> 0.030373096 | D29: % | G29: =C29/2 -> 0.015186548 | H29: =G29 -> 0.015186548 | K29: =[51]ORÇ!I92 -> 33083.58
D30: R$ | G30: =K29/2 -> 16541.79 | H30: =G30 -> 16541.79
A31: 13 | B31: INSTALAÇÕES HIDRÁULICAS | C31: =K31/$K$40 -> 0.014839976 | D31: % | G31: =C31/2 -> 0.0074199881 | H31: =G31 -> 0.0074199881 | K31: =[51]ORÇ!I108 -> 16164.29
D32: R$ | G32: =K31/2 -> 8082.145 | H32: =G32 -> 8082.145
A33: 14 | B33: INSTALAÇÕES SANITÁRIAS | C33: =K33/$K$40 -> 0.020637938 | D33: % | G33: =C33/2 -> 0.010318969 | H33: =G33 -> 0.010318969 | K33: =[51]ORÇ!I120 -> 22479.66
D34: R$ | G34: =K33/2 -> 11239.83 | H34: =G34 -> 11239.83
A35: 15 | B35: LOUÇAS E METAIS | C35: =K35/$K$40 -> 0.019940397 | D35: % | G35: =C35/2 -> 0.0099701983 | H35: =G35 -> 0.0099701983 | K35: =[51]ORÇ!I128 -> 21719.87
D36: R$ | G36: =K35/2 -> 10859.935 | H36: =G36 -> 10859.935
A37: 16 | B37: DIVISÓRIAS E BANCADAS | C37: =K37/$K$40 -> 0.027689059 | D37: % | H37: =C37/2 -> 0.013844529 | I37: =H37 -> 0.013844529 | K37: =[51]ORÇ!I140 -> 30160.02
D38: R$ | H38: =K37/2 -> 15080.01 | I38: =H38 -> 15080.01
A40: TOTAL PERÍODO | D40: % | E40: =E41/$K$40 -> 0.12086115 | F40: =F41/$K$40 -> 0.14196223 | G40: =G41/$K$40 -> 0.2202622 | H40: =H41/$K$40 -> 0.23087903 | I40: =I41/$K$40 -> 0.14969081 | J40: =J41/$K$40 -> 0.13634458 | K40: =SUM(K7:K38) -> 1089239.6
D41: R$ | E41: =E38+E36+E34+E32+E30+E28+E26+E24+E22+E20+E18+E16+E14+E12+E10+E8 -> 131646.75 | F41: =F38+F36+F34+F32+F30+F28+F26+F24+F22+F20+F18+F16+F14+F12+F10+F8 -> 154630.89 | G41: =G38+G36+G34+G32+G30+G28+G26+G24+G22+G20+G18+G16+G14+G12+G10+G8 -> 239918.31 | H41: =H38+H36+H34+H32+H30+H28+H26+H24+H22+H20+H18+H16+H14+H12+H10+H8 -> 251482.59 | I41: =I38+I36+I34+I32+I30+I28+I26+I24+I22+I20+I18+I16+I14+I12+I10+I8 -> 163049.16 | J41: =J38+J36+J34+J32+J30+J28+J26+J24+J22+J20+J18+J16+J14+J12+J10+J8 -> 148511.92
A42: TOTAL ACUMULADO | C42: 1 | D42: % | E42: =E43/$K$40 -> 0.12086115 | F42: =F43/$K$40 -> 0.26282338 | G42: =G43/$K$40 -> 0.48308557 | H42: =H43/$K$40 -> 0.7139646 | I42: =I43/$K$40 -> 0.86365542 | J42: =J43/$K$40 -> 1
...

Sheet BDI
A2: Obra | K2: Bancos | O2: B.D.I. | R2: Encargos Sociais
A3: =CR!A2 -> CONSTRUÇÃO DE ESCOLA 8 SALAS | K3: =CR!F2 -> SINAPI - 05/2024; SBC - 06/2024; ORSE - 04/2024; IOPES - 03/2024; AGESUL - 01/2024; AGETOP CIVIL - 02/2024; CAEMA - 12/2023 | O3: =CR!E2 -> 0.1985 | R3: =CR!I2 -> Não Desonerado: embutido nos preços unitário dos insumos de mão de obra, de acordo com as bases.
A5: CÁLCULO DE BDI | D5: Construção e Reforma de quaisquer Edificações inclusive Unidades Habitacionais, Escolas, Hospitais, de uso Agropecuário, Estações p/Trens/Metrôs, Estádios e Quadras Esportivas | G5: Rodovias e Ferrovias - Infra Urbana, praças, calçadas, etc. | J5: Abastecimento de Água, Coleta de Esgoto | M5: Fornecimento de materiais e equipamentos | P5: Construção e Manutenção de Estações e Redes de Distribuição de Energia Elétrica | S5: Portuárias, Marítimas e Fluviais
A6: Item componente do BDI | C6: % Informado | D6: 1ºQ | E6: Médio | F6: 3º Q | G6: 1ºQ | H6: Médio | I6: 3º Q | J6: 1ºQ | K6: Médio | L6: 3º Q | M6: 1ºQ | N6: Médio | O6: 3º Q | P6: 1ºQ | Q6: Médio | R6: 3º Q | S6: 1ºQ | T6: Médio | U6: 3º Q
A7: Administração Central ( AC ) | C7: 3 | D7: 3 | E7: 4 | F7: 5.5 | G7: 3.8 | H7: 4.01 | I7: 4.67 | J7: 3.43 | K7: 4.93 | L7: 6.71 | M7: 1.5 | N7: 3.45 | O7: 4.49 | P7: 5.29 | Q7: 5.92 | R7: 7.93 | S7: 4 | T7: 5.52 | U7: 7.85
A8: Seguro (S) e Garantia (G) | C8: 0.8 | D8: 0.8 | E8: 0.8 | F8: 1 | G8: 0.32 | H8: 0.4 | I8: 0.74 | J8: 0.28 | K8: 0.49 | L8: 0.75 | M8: 0.3 | N8: 0.48 | O8: 0.82 | P8: 0.25 | Q8: 0.51 | R8: 0.56 | S8: 0.81 | T8: 1.22 | U8: 1.99
A9: Risco (R) | C9: 0.97 | D9: 0.97 | E9: 1.27 | F9: 1.27 | G9: 0.5 | H9: 0.56 | I9: 0.97 | J9: 1 | K9: 1.39 | L9: 1.74 | M9: 0.56 | N9: 0.85 | O9: 0.89 | P9: 1 | Q9: 1.48 | R9: 1.97 | S9: 1.46 | T9: 2.32 | U9: 3.16
A10: Despesas Financeiras (DF) | C10: 0.59 | D10: 0.59 | E10: 1.23 | F10: 1.39 | G10: 1.02 | H10: 1.11 | I10: 1.21 | J10: 0.94 | K10: 0.99 | L10: 1.17 | M10: 0.85 | N10: 0.85 | O10: 1.11 | P10: 1.01 | Q10: 1.07 | R10: 1.11 | S10: 0.94 | T10: 1.02 | U10: 1.33
A11: Lucro (L) | C11: 6.16 | D11: 6.16 | E11: 7.4 | F11: 8.96 | G11: 6.64 | H11: 7.3 | I11: 8.69 | J11: 6.74 | K11: 8.04 | L11: 9.4 | M11: 3.5 | N11: 5.11 | O11: 6.22 | P11: 8 | Q11: 8.31 | R11: 9.51 | S11: 7.14 | T11: 8.4 | U11: 10.43
A12: Impostos (I) - PIS, COFINS, ISSQN | C12: 6.65 | D12: Conforme Legislação Específica
B14: Observações | G14: VALORES DE BDI POR TIPO DE OBRA
A15: 1) Preencher apenas a coluna % Informado (Coluna B) | G15: Tipo de Obra | M15: 1ºQ | N15: Médio | O15: 3º Q
A16: 2) Os Tributos normalmente aplicáveis são: PIS (O,65%), COFINS (3,00%) e ISS | G16: Construção de Edifícios | M16: 20.34 | N16: 22.12 | O16: 25
A17: 3) O cálculo do BDI se baseia na fórmula abaixo utilizada pelo Acórdão 2622/13 do TCU, conforme CE GEPAD 354/2013 de 17/10/2013. | G17: Construção de Rodovias e Ferrovias - Infra Urbana, praças, etc. | M17: 19.6 | N17: 20.97 | O17: 24.23
B18: B.D.I = | C18: 0.1985 | G18: Rede de Abastecimento de Água, Coleta de Esgotos | M18: 20.76 | N18: 24.18 | O18: 26.44
A19: Fórmula Utilizada: | G19: Estações e Redes de Distribuição de Energia Elétrica | M19: 24 | N19: 25.84 | O19: 27.86
G20: Obras Portuárias, Marítimas e Fluviais | M20: 22.8 | N20: 27.48 | O20: 30.95
G21: Fornecimento de Materiais e Equipamentos | M21: 11.1 | N21: 14.02 | O21: 16.8
A24: Observações sobre os % informados no cálculo do BDI, neste caso:
A25: OBRAS DE REDES DE ÁGUA E ESGOTO OS VALORES % INFORMADO ENQUADRAM-SE NOS LIMITES DO ACÓRDÃO 2622/2013-TCU-PLENÁRIO OS VALORES % INFORMADO DE AC,DF E L ESTÃO NOS VALORES MÁXIMOS DOS LIMITES DO ACÓRDÃO 2622/2013-TCU-PLENÁRIO OS VALORES % INFORMADO DE S+G E R FORAM CONSIDERADOS ZERADOS OU SEJA, ABAIXO DO MÍNIMO DOS LIMITES DO ACÓRDÃO 2622/2013-TCU-PLENÁRIO BDI ={{[(1+AC+G+R) x (1+DF) x (1+L)} / (1-I)} - 1 } x 100

Sheet ES
A1: Obra | C1: Bancos | D1: B.D.I. | E1: Encargos Sociais
A2: =BDI!A3 -> CONSTRUÇÃO DE ESCOLA 8 SALAS | C2: =BDI!K3 -> SINAPI - 05/2024; SBC - 06/2024; ORSE - 04/2024; IOPES - 03/2024; AGESUL - 01/2024; AGETOP CIVIL - 02/2024; CAEMA - 12/2023 | D2: =BDI!O3 -> 0.1985 | E2: =BDI!R3 -> Não Desonerado: embutido nos preços unitário dos insumos de mão de obra, de acordo com as bases.
A4: ENCARGOS SOCIAIS
A6: CÓDIGO | B6: DESCRIÇÃO | C6: COM DESONERAÇÃO | E6: SEM DESONERAÇÃO
C7: HORISTA % | D7: MENSALISTA % | E7: HORISTA % | F7: MENSALISTA %
A8: GRUPO A
A9: A1 | B9: INSS | C9: 0 | D9: 0 | E9: 0.2 | F9: 0.2
A10: A2 | B10: SESI | C10: 0.015 | D10: 0.015 | E10: 0.015 | F10: 0.015
A11: A3 | B11: SENAI | C11: 0.01 | D11: 0.01 | E11: 0.01 | F11: 0.01
A12: A4 | B12: INCRA | C12: 0.002 | D12: 0.002 | E12: 0.002 | F12: 0.002
A13: A5 | B13: SEBRAE | C13: 0.006 | D13: 0.006 | E13: 0.006 | F13: 0.006
A14: A6 | B14: Salário Educação | C14: 0.025 | D14: 0.025 | E14: 0.025 | F14: 0.025
A15: A7 | B15: Seguro Contra Acidentes de Trabalho | C15: 0.03 | D15: 0.03 | E15: 0.03 | F15: 0.03
A16: A8 | B16: FGTS | C16: 0.08 | D16: 0.08 | E16: 0.08 | F16: 0.08
A17: A9 | B17: SECONCI | C17: 0 | D17: 0 | E17: 0 | F17: 0
A18: A | B18: Total | C18: 0.168 | D18: 0.168 | E18: 0.368 | F18: 0.368
A19: GRUPO B
A20: B1 | B20: Repouso Semanal Remunerado | C20: 0.1803 | D20: Não incide | E20: 0.1803 | F20: Não incide
A21: B2 | B21: Feriados | C21: 0.0431 | D21: Não incide | E21: 0.0431 | F21: Não incide
A22: B3 | B22: Auxílio - Enfermidade | C22: 0.0085 | D22: 0.0064 | E22: 0.0085 | F22: 0.0064
A23: B4 | B23: 13º Salário | C23: 0.1106 | D23: 0.0833 | E23: 0.1106 | F23: 0.0833
A24: B5 | B24: Licença Paternidade | C24: 0.0006 | D24: 0.0004 | E24: 0.0006 | F24: 0.0004
A25: B6 | B25: Faltas Justificadas | C25: 0.0074 | D25: 0.0056 | E25: 0.0074 | F25: 0.0056
A26: B7 | B26: Dias de Chuvas | C26: 0.0206 | D26: Não incide | E26: 0.0206 | F26: Não incide
A27: B8 | B27: Auxílio Acidente de Trabalho | C27: 0.001 | D27: 0.0008 | E27: 0.001 | F27: 0.0008
A28: B9 | B28: Férias Gozadas | C28: 0.1129 | D28: 0.0851 | E28: 0.1129 | F28: 0.0851
A29: B10 | B29: Salário Maternidade | C29: 0.0004 | D29: 0.0003 | E29: 0.0004 | F29: 0.0003
A30: B | B30: Total | C30: 0.4854 | D30: 0.1819 | E30: 0.4854 | F30: 0.1819
A31: GRUPO C
A32: C1 | B32: Aviso Prévio Indenizado | C32: 0.0457 | D32: 0.0345 | E32: 0.0457 | F32: 0.0345
A33: C2 | B33: Aviso Prévio Trabalhado | C33: 0.0011 | D33: 0.0008 | E33: 0.0011 | F33: 0.0008
A34: C3 | B34: Férias Indenizadas | C34: 0.0331 | D34: 0.025 | E34: 0.0331 | F34: 0.025
A35: C4 | B35: Depósito Rescisão Sem Justa Causa | C35: 0.0261 | D35: 0.0196 | E35: 0.0261 | F35: 0.0196
A36: C5 | B36: Indenização Adicional | C36: 0.0038 | D36: 0.0029 | E36: 0.0038 | F36: 0.0029
A37: C | B37: Total | C37: 0.1098 | D37: 0.0828 | E37: 0.1098 | F37: 0.0828
A38: GRUPO D
A39: D1 | B39: Reincidência de Grupo A sobre Grupo B | C39: 0.0815 | D39: 0.0306 | E39: 0.1786 | F39: 0.0669
A40: D2 | B40: Reincidência de Grupo A sobre Aviso Prévio Trabalhado e Reincidência do FGTS sobre Aviso Prévio Indenizado | C40: 0.0038 | D40: 0.0029 | E40: 0.0041 | F40: 0.0031
A41: D | B41: Total | C41: 0.0853 | D41: 0.0335 | E41: 0.1827 | F41: 0.07
A42: TOTAL(A+B+C+D) | C42: 0.8485 | D42: 0.4662 | E42: 1.1459 | F42: 0.7027
